{
 "currentVersion": 11.5,
 "serviceDescription": "VectorField_WINDSPEED_MEA_crf",
 "serviceItemId": "bd989618ef2a47f1827601bbbbc1bfc6",
 "name": "VectorField_WINDSPEED_MEA_crf",
 "description": "",
 "extent": {
  "xmin": -174859.68245000148,
  "ymin": 3147416.38575,
  "xmax": 194846.31754999852,
  "ymax": 3566970.38575,
  "spatialReference": {
   "wkid": 32644,
   "latestWkid": 32644,
   "vcsWkid": 5773,
   "latestVcsWkid": 5773
  }
 },
 "initialExtent": {
  "xmin": -174859.68245000148,
  "ymin": 3147416.38575,
  "xmax": 194846.31754999852,
  "ymax": 3566970.38575,
  "spatialReference": {
   "wkid": 32644,
   "latestWkid": 32644,
   "vcsWkid": 5773,
   "latestVcsWkid": 5773
  }
 },
 "fullExtent": {
  "xmin": -174859.68245000148,
  "ymin": 3147416.38575,
  "xmax": 194846.31754999852,
  "ymax": 3566970.38575,
  "spatialReference": {
   "wkid": 32644,
   "latestWkid": 32644,
   "vcsWkid": 5773,
   "latestVcsWkid": 5773
  }
 },
 "sortableFields": "",
 "heightModelInfo": {
  "heightModel": "gravity_related_height",
  "vertCRS": "EGM96_height",
  "heightUnit": "meter"
 },
 "bandCount": 2,
 "pixelType": "S32",
 "minValues": [
  0,
  0
 ],
 "maxValues": [
  59,
  360
 ],
 "meanValues": [
  0.763524293485375,
  16.029360058707567
 ],
 "stdvValues": [
  3.017738846162392,
  62.5141911121216
 ],
 "serviceProperties": "Center<\/MosaicMethod>First<\/MosaicOperator>true<\/SortAscending><\/LockImageID><\/TileOrderField>0<\/TileOrderBase>0.000000<\/AvgImageSpacingX>0.000000<\/AvgImageSpacingY>0.0<\/ViewPointX>0.0<\/ViewPointY>0.0<\/ViewPointDefShiftX>0.0<\/ViewPointDefShiftY>None<\/CompressionMethod>75<\/CompressionQuality>0.010000<\/CompressionTolerance>Bilinear<\/SamplingMethod><\/ImageServiceProperties><\/ImageServer>",
 "allowedFields": "",
 "hasMultidimensions": true,
 "timeInfo": {
  "startTimeField": "StdTime",
  "endTimeField": "StdTime",
  "timeExtent": [
   1158278400000,
   1732924800000
  ],
  "timeReference": null,
  "defaultTimeInterval": 1,
  "defaultTimeIntervalUnits": "esriTimeUnitsDays"
 },
 "pixelSizeX": 4154,
 "pixelSizeY": 4154,
 "meanPixelSize": 4154,
 "datasetFormat": "Cache/LERC2D",
 "uncompressedSize": 71912,
 "blockWidth": 256,
 "blockHeight": 256,
 "compressionType": "LERC2D",
 "bandNames": [
  "Vector-Magnitude",
  "Vector-Direction"
 ],
 "allowCopy": true,
 "allowAnalysis": true,
 "itemAccess": false,
 "defaultVariable": "",
 "inspectionCapabilities": "",
 "noDataValue": -9999,
 "noDataValues": [
  -9999,
  -9999
 ],
 "minPixelSize": 0,
 "maxPixelSize": 0,
 "copyrightText": "",
 "serviceDataType": "esriImageServiceDataTypeVector-MagDir",
 "serviceSourceType": "esriImageServiceSourceTypeDataset",
 "objectIdField": "",
 "fields": [],
 "capabilities": "Image,Metadata,Mensuration",
 "defaultMosaicMethod": "Center",
 "allowedMosaicMethods": "",
 "sortField": "",
 "sortValue": null,
 "sortAscending": true,
 "mosaicOperator": "First",
 "defaultCompressionQuality": 75,
 "defaultResamplingMethod": "Bilinear",
 "maxImageHeight": 4100,
 "maxImageWidth": 15000,
 "allowRasterFunction": true,
 "rasterFunctionInfos": [
  {
   "name": "None",
   "description": "",
   "help": ""
  }
 ],
 "rasterTypeInfos": [
  {
   "name": "Raster Dataset",
   "description": "Supports all ArcGIS Raster Datasets",
   "help": ""
  }
 ],
 "mensurationCapabilities": "Basic",
 "hasHistograms": true,
 "hasColormap": false,
 "hasRasterAttributeTable": false,
 "minScale": 0,
 "maxScale": 0,
 "exportTilesAllowed": false,
 "supportsStatistics": false,
 "supportsAdvancedQueries": false,
 "editFieldsInfo": null,
 "ownershipBasedAccessControlForRasters": null,
 "allowComputeTiePoints": false,
 "useStandardizedQueries": true,
 "advancedQueryCapabilities": {
  "useStandardizedQueries": true,
  "supportsStatistics": false,
  "supportsOrderBy": false,
  "supportsDistinct": false,
  "supportsPagination": false
 },
 "spatialReference": {
  "wkid": 32644,
  "latestWkid": 32644,
  "vcsWkid": 5773,
  "latestVcsWkid": 5773
 }
}
