{
 "currentVersion": 11.5,
 "serviceDescription": "Wind_Aggregate_crf",
 "serviceItemId": "7400f06923464e9aaa740aa75bc69f1e",
 "name": "Wind_Aggregate_crf",
 "description": "",
 "extent": {
  "xmin": -180,
  "ymin": -90,
  "xmax": 179.88,
  "ymax": 90,
  "spatialReference": {
   "wkt2": "GEOGCRS[\"GCS_Coordinate_System_imported_from_GRIB_file\",DATUM[\"D_unnamed\",ELLIPSOID[\"Sphere\",6371229.0,0.0,LENGTHUNIT[\"Meter\",1.0]]],PRIMEM[\"Greenwich\",0.0,ANGLEUNIT[\"Degree\",0.0174532925199433]],CS[ellipsoidal,2],AXIS[\"Longitude (lon)\",east,ORDER[1]],AXIS[\"Latitude (lat)\",north,ORDER[2]],ANGLEUNIT[\"Degree\",0.0174532925199433]]",
   "wkt": "GEOGCS[\"GCS_Coordinate_System_imported_from_GRIB_file\",DATUM[\"D_unnamed\",SPHEROID[\"Sphere\",6371229.0,0.0]],PRIMEM[\"Greenwich\",0.0],UNIT[\"Degree\",0.0174532925199433]]"
  }
 },
 "initialExtent": {
  "xmin": -180,
  "ymin": -90,
  "xmax": 179.88,
  "ymax": 90,
  "spatialReference": {
   "wkt2": "GEOGCRS[\"GCS_Coordinate_System_imported_from_GRIB_file\",DATUM[\"D_unnamed\",ELLIPSOID[\"Sphere\",6371229.0,0.0,LENGTHUNIT[\"Meter\",1.0]]],PRIMEM[\"Greenwich\",0.0,ANGLEUNIT[\"Degree\",0.0174532925199433]],CS[ellipsoidal,2],AXIS[\"Longitude (lon)\",east,ORDER[1]],AXIS[\"Latitude (lat)\",north,ORDER[2]],ANGLEUNIT[\"Degree\",0.0174532925199433]]",
   "wkt": "GEOGCS[\"GCS_Coordinate_System_imported_from_GRIB_file\",DATUM[\"D_unnamed\",SPHEROID[\"Sphere\",6371229.0,0.0]],PRIMEM[\"Greenwich\",0.0],UNIT[\"Degree\",0.0174532925199433]]"
  }
 },
 "fullExtent": {
  "xmin": -180,
  "ymin": -90,
  "xmax": 179.88,
  "ymax": 90,
  "spatialReference": {
   "wkt2": "GEOGCRS[\"GCS_Coordinate_System_imported_from_GRIB_file\",DATUM[\"D_unnamed\",ELLIPSOID[\"Sphere\",6371229.0,0.0,LENGTHUNIT[\"Meter\",1.0]]],PRIMEM[\"Greenwich\",0.0,ANGLEUNIT[\"Degree\",0.0174532925199433]],CS[ellipsoidal,2],AXIS[\"Longitude (lon)\",east,ORDER[1]],AXIS[\"Latitude (lat)\",north,ORDER[2]],ANGLEUNIT[\"Degree\",0.0174532925199433]]",
   "wkt": "GEOGCS[\"GCS_Coordinate_System_imported_from_GRIB_file\",DATUM[\"D_unnamed\",SPHEROID[\"Sphere\",6371229.0,0.0]],PRIMEM[\"Greenwich\",0.0],UNIT[\"Degree\",0.0174532925199433]]"
  }
 },
 "sortableFields": "",
 "bandCount": 2,
 "pixelType": "F64",
 "minValues": [
  -31.24195327758789,
  -36.29160766601562
 ],
 "maxValues": [
  53.345175170898436,
  36.650225448608396
 ],
 "meanValues": [
  5.88843784553195,
  0.07990644874108332
 ],
 "stdvValues": [
  9.072138071689912,
  6.775803870430503
 ],
 "serviceProperties": "Center<\/MosaicMethod>First<\/MosaicOperator>true<\/SortAscending><\/LockImageID><\/TileOrderField>0<\/TileOrderBase>0.000000<\/AvgImageSpacingX>0.000000<\/AvgImageSpacingY>0.0<\/ViewPointX>0.0<\/ViewPointY>0.0<\/ViewPointDefShiftX>0.0<\/ViewPointDefShiftY>None<\/CompressionMethod>75<\/CompressionQuality>0.010000<\/CompressionTolerance>Bilinear<\/SamplingMethod><\/ImageServiceProperties><\/ImageServer>",
 "allowedFields": "",
 "hasMultidimensions": true,
 "timeInfo": {
  "startTimeField": "StdTime",
  "endTimeField": "StdTime",
  "timeExtent": [
   1743897600000,
   1744761600000
  ],
  "timeReference": null,
  "defaultTimeInterval": 1,
  "defaultTimeIntervalUnits": "esriTimeUnitsDays"
 },
 "pixelSizeX": 0.12,
 "pixelSizeY": 0.12,
 "meanPixelSize": 13343.870813825495,
 "datasetFormat": "Cache/LERC2D",
 "uncompressedSize": 71976000,
 "blockWidth": 256,
 "blockHeight": 256,
 "compressionType": "LERC2D",
 "bandNames": [
  "Vector-U",
  "Vector-V"
 ],
 "allowCopy": true,
 "allowAnalysis": true,
 "itemAccess": false,
 "defaultVariable": "",
 "inspectionCapabilities": "",
 "minPixelSize": 0,
 "maxPixelSize": 0,
 "copyrightText": "",
 "serviceDataType": "esriImageServiceDataTypeVector-UV",
 "serviceSourceType": "esriImageServiceSourceTypeDataset",
 "objectIdField": "",
 "fields": [],
 "capabilities": "Image,Metadata,Mensuration",
 "defaultMosaicMethod": "Center",
 "allowedMosaicMethods": "",
 "sortField": "",
 "sortValue": null,
 "sortAscending": true,
 "mosaicOperator": "First",
 "defaultCompressionQuality": 75,
 "defaultResamplingMethod": "Bilinear",
 "maxImageHeight": 4100,
 "maxImageWidth": 15000,
 "allowRasterFunction": true,
 "rasterFunctionInfos": [
  {
   "name": "None",
   "description": "",
   "help": ""
  }
 ],
 "rasterTypeInfos": [
  {
   "name": "Raster Dataset",
   "description": "Supports all ArcGIS Raster Datasets",
   "help": ""
  }
 ],
 "mensurationCapabilities": "Basic",
 "hasHistograms": true,
 "hasColormap": false,
 "hasRasterAttributeTable": false,
 "minScale": 0,
 "maxScale": 0,
 "exportTilesAllowed": false,
 "supportsStatistics": false,
 "supportsAdvancedQueries": false,
 "editFieldsInfo": null,
 "ownershipBasedAccessControlForRasters": null,
 "allowComputeTiePoints": false,
 "useStandardizedQueries": true,
 "advancedQueryCapabilities": {
  "useStandardizedQueries": true,
  "supportsStatistics": false,
  "supportsOrderBy": false,
  "supportsDistinct": false,
  "supportsPagination": false
 },
 "spatialReference": {
  "wkt2": "GEOGCRS[\"GCS_Coordinate_System_imported_from_GRIB_file\",DATUM[\"D_unnamed\",ELLIPSOID[\"Sphere\",6371229.0,0.0,LENGTHUNIT[\"Meter\",1.0]]],PRIMEM[\"Greenwich\",0.0,ANGLEUNIT[\"Degree\",0.0174532925199433]],CS[ellipsoidal,2],AXIS[\"Longitude (lon)\",east,ORDER[1]],AXIS[\"Latitude (lat)\",north,ORDER[2]],ANGLEUNIT[\"Degree\",0.0174532925199433]]",
  "wkt": "GEOGCS[\"GCS_Coordinate_System_imported_from_GRIB_file\",DATUM[\"D_unnamed\",SPHEROID[\"Sphere\",6371229.0,0.0]],PRIMEM[\"Greenwich\",0.0],UNIT[\"Degree\",0.0174532925199433]]"
 }
}
