View In:
ArcGIS JavaScript
ArcGIS Online Map Viewer
ArcGIS Earth
Service Description: AP_Area_of_Interest
Name: AP_Area_of_Interest
Description:
Single Fused Map Cache: false
Extent:
XMin: 80.3142873
YMin: 15.85711569
XMax: 81.513364335
YMax: 16.924697985
Spatial Reference: 4326
(4326)
LatestVCSWkid(0)
Initial Extent:
XMin: 80.3142873
YMin: 15.85711569
XMax: 81.513364335
YMax: 16.924697985
Spatial Reference: 4326
(4326)
LatestVCSWkid(0)
Full Extent:
XMin: 80.3142873
YMin: 15.85711569
XMax: 81.513364335
YMax: 16.924697985
Spatial Reference: 4326
(4326)
LatestVCSWkid(0)
Pixel Size X: 1.249950000000002E-4
Pixel Size Y: 1.2499500000000014E-4
Band Count: 4
Pixel Type: U8
RasterFunction Infos: {"rasterFunctionInfos": [{
"name": "None",
"description": "",
"help": ""
}]}
Mensuration Capabilities: Basic
Inspection Capabilities:
Has Histograms: true
Has Colormap: false
Has Multi Dimensions : false
Rendering Rule:
Min Scale: 0
Max Scale: 0
Copyright Text:
Service Data Type: esriImageServiceDataTypeGeneric
Min Values: 0, 0, 0, 0
Max Values: 255, 255, 255, 255
Mean Values: 150.99992504925896, 150.99992504925896, 150.99992504925896, 219.19327042670406
Standard Deviation Values: 83.04379159132432, 83.04379159132432, 83.04379159132432, 88.59229229592836
Object ID Field:
Fields:
None
Default Mosaic Method: Center
Allowed Mosaic Methods:
SortField:
SortValue: null
Mosaic Operator: First
Default Compression Quality: 75
Default Resampling Method: Bilinear
Max Record Count: null
Max Image Height: 4100
Max Image Width: 15000
Max Download Image Count: null
Max Mosaic Image Count: null
Allow Raster Function: true
Allow Copy: true
Allow Analysis: true
Allow Compute TiePoints: false
Supports Statistics: false
Supports Advanced Queries: false
Use StandardizedQueries: true
Raster Type Infos:
Name: Raster Dataset
Description: Supports all ArcGIS Raster Datasets
Help:
Has Raster Attribute Table: false
Edit Fields Info: null
Ownership Based AccessControl For Rasters: null
Child Resources:
Info
Histograms
Statistics
Key Properties
Legend
Raster Function Infos
Supported Operations:
Export Image
Identify
Measure
Compute Histograms
Compute Statistics Histograms
Get Samples
Compute Class Statistics
Query Boundary
Compute Pixel Location
Compute Angles
Validate
Project