View In:
ArcGIS JavaScript
ArcGIS Online Map Viewer
ArcGIS Earth
Service Description: ET_Blue_A
Name: ET_Blue_A
Description:
Single Fused Map Cache: false
Extent:
XMin: 89.8156720001
YMin: 25.0324909996
XMax: 92.8056720001
YMax: 26.1199909996
Spatial Reference: 4326
(4326)
LatestVCSWkid(0)
Initial Extent:
XMin: 89.8156720001
YMin: 25.0324909996
XMax: 92.8056720001
YMax: 26.1199909996
Spatial Reference: 4326
(4326)
LatestVCSWkid(0)
Full Extent:
XMin: 89.8156720001
YMin: 25.0324909996
XMax: 92.8056720001
YMax: 26.1199909996
Spatial Reference: 4326
(4326)
LatestVCSWkid(0)
Pixel Size X: 0.0025000000000000074
Pixel Size Y: 0.0024999999999999966
Band Count: 1
Pixel Type: F64
RasterFunction Infos: {"rasterFunctionInfos": [{
"name": "None",
"description": "",
"help": ""
}]}
Mensuration Capabilities: Basic
Inspection Capabilities:
Has Histograms: true
Has Colormap: false
Has Multi Dimensions : false
Rendering Rule:
Min Scale: 0
Max Scale: 0
Copyright Text:
Service Data Type: esriImageServiceDataTypeGeneric
Min Values: 0
Max Values: 334.5464454769712
Mean Values: 139.16983814322762
Standard Deviation Values: 70.00662668004325
Object ID Field:
Fields:
None
Default Mosaic Method: Center
Allowed Mosaic Methods:
SortField:
SortValue: null
Mosaic Operator: First
Default Compression Quality: 75
Default Resampling Method: Bilinear
Max Record Count: null
Max Image Height: 4100
Max Image Width: 15000
Max Download Image Count: null
Max Mosaic Image Count: null
Allow Raster Function: true
Allow Copy: true
Allow Analysis: true
Allow Compute TiePoints: false
Supports Statistics: false
Supports Advanced Queries: false
Use StandardizedQueries: true
Raster Type Infos:
Name: Raster Dataset
Description: Supports all ArcGIS Raster Datasets
Help:
Has Raster Attribute Table: false
Edit Fields Info: null
Ownership Based AccessControl For Rasters: null
Child Resources:
Info
Histograms
Statistics
Key Properties
Legend
Raster Function Infos
Supported Operations:
Export Image
Identify
Measure
Compute Histograms
Compute Statistics Histograms
Get Samples
Compute Class Statistics
Query Boundary
Compute Pixel Location
Compute Angles
Validate
Project