View In:
ArcGIS JavaScript
ArcGIS Online Map Viewer
ArcGIS Earth
Service Description: Forest_CH
Name: Forest_CH
Description:
Single Fused Map Cache: false
Extent:
XMin: 9016857.401700001
YMin: 2249939.6741000004
XMax: 9134307.401700001
YMax: 2368049.6741000004
Spatial Reference: 102100
(3857)
LatestVCSWkid(0)
Initial Extent:
XMin: 9016857.401700001
YMin: 2249939.6741000004
XMax: 9134307.401700001
YMax: 2368049.6741000004
Spatial Reference: 102100
(3857)
LatestVCSWkid(0)
Full Extent:
XMin: 9016857.401700001
YMin: 2249939.6741000004
XMax: 9134307.401700001
YMax: 2368049.6741000004
Spatial Reference: 102100
(3857)
LatestVCSWkid(0)
Pixel Size X: 10.0
Pixel Size Y: 10.0
Band Count: 13
Pixel Type: U16
RasterFunction Infos: {"rasterFunctionInfos": [{
"name": "None",
"description": "",
"help": ""
}]}
Mensuration Capabilities: Basic
Inspection Capabilities:
Has Histograms: true
Has Colormap: false
Has Multi Dimensions : false
Rendering Rule:
Min Scale: 0
Max Scale: 0
Copyright Text:
Service Data Type: esriImageServiceDataTypeGeneric
Min Values: 12.83203125, 14.037109375, 14.341796875, 15.853515625, 15.77734375, 16.841796875, 17.83984375, 17.21484375, 18.7109375, 0, 0, 23.705078125, 30.302734375
Max Values: 6557.16796875, 7172.962890625, 7328.658203125, 8101.146484375, 8062.22265625, 8606.158203125, 9116.16015625, 8796.78515625, 9561.2890625, 2466, 55, 12113.294921875, 15484.697265625
Mean Values: 1591.1394127082006, 1282.8127612180565, 1095.1997707291987, 939.6277635906059, 1108.9283203726188, 1768.4348676417912, 2141.871400524231, 2049.7199485980154, 2410.2945849343137, 390.40816596495273, 10.584658245991113, 1933.7410390202633, 1061.997973089229
Standard Deviation Values: 256.52746772300407, 231.57756167604023, 224.08521494301036, 305.53927038906426, 294.61595446885366, 313.5577587907928, 390.5570786727349, 395.4640441245202, 454.7999595010651, 78.46487367893444, 2.1261548559749954, 677.422089517338, 529.7280345305144
Object ID Field: OBJECTID
Fields:
-
OBJECTID
(
type: esriFieldTypeOID, alias: OBJECTID
)
-
Shape
(
type: esriFieldTypeGeometry, alias: Shape
)
-
Name
(
type: esriFieldTypeString, alias: Name, length: 200
)
-
MinPS
(
type: esriFieldTypeDouble, alias: MinPS
)
-
MaxPS
(
type: esriFieldTypeDouble, alias: MaxPS
)
-
LowPS
(
type: esriFieldTypeDouble, alias: LowPS
)
-
HighPS
(
type: esriFieldTypeDouble, alias: HighPS
)
-
Category
(
type: esriFieldTypeInteger, alias: Category
, Coded Values:
[0: Unknown]
, [1: Primary]
, [2: Overview]
, ...6 more...
)
-
Tag
(
type: esriFieldTypeString, alias: Tag, length: 100
)
-
GroupName
(
type: esriFieldTypeString, alias: GroupName, length: 100
)
-
ProductName
(
type: esriFieldTypeString, alias: ProductName, length: 100
)
-
CenterX
(
type: esriFieldTypeDouble, alias: CenterX
)
-
CenterY
(
type: esriFieldTypeDouble, alias: CenterY
)
-
ZOrder
(
type: esriFieldTypeInteger, alias: ZOrder
)
-
SensorName
(
type: esriFieldTypeString, alias: Sensor Name, length: 20
)
-
AcquisitionDate
(
type: esriFieldTypeDate, alias: Acquisition Date, length: 8
)
-
SensingOrbit
(
type: esriFieldTypeInteger, alias: Sensing Orbit
)
-
CloudCover
(
type: esriFieldTypeDouble, alias: Cloud Cover
)
-
Shape_Length
(
type: esriFieldTypeDouble, alias: Shape_Length
)
-
Shape_Area
(
type: esriFieldTypeDouble, alias: Shape_Area
)
Default Mosaic Method: Northwest
Allowed Mosaic Methods: NorthWest,Center,LockRaster,ByAttribute,Nadir,Viewpoint,Seamline,None
SortField:
SortValue: null
Mosaic Operator: First
Default Compression Quality: 75
Default Resampling Method: Bilinear
Max Record Count: 1000
Max Image Height: 4100
Max Image Width: 15000
Max Download Image Count: 20
Max Mosaic Image Count: 20
Allow Raster Function: true
Allow Copy: true
Allow Analysis: true
Allow Compute TiePoints: false
Supports Statistics: true
Supports Advanced Queries: true
Use StandardizedQueries: true
Raster Type Infos:
Name: Raster Dataset
Description: Supports all ArcGIS Raster Datasets
Help:
Has Raster Attribute Table: false
Edit Fields Info: null
Ownership Based AccessControl For Rasters: null
Child Resources:
Info
Histograms
Statistics
Key Properties
Legend
Raster Function Infos
Supported Operations:
Export Image
Query
Identify
Measure
Compute Histograms
Compute Statistics Histograms
Get Samples
Compute Class Statistics
Query GPS Info
Find Images
Image to Map
Map to Image
Measure from Image
Image to Map Multiray
Query Boundary
Compute Pixel Location
Compute Angles
Validate
Project