View In:
ArcGIS JavaScript
ArcGIS Online Map Viewer
ArcGIS Earth
Service Description: SAR_Composite_Raster_Clip
Name: SAR_Composite_Raster_Clip
Description:
Single Fused Map Cache: false
Extent:
XMin: 1.0424927610100005E7
YMin: 3093278.679200005
XMax: 1.0629310979000002E7
YMax: 3211818.020599995
Spatial Reference: 102100
(3857)
LatestVCSWkid(0)
Initial Extent:
XMin: 1.0424927610100005E7
YMin: 3093278.679200005
XMax: 1.0629310979000002E7
YMax: 3211818.020599995
Spatial Reference: 102100
(3857)
LatestVCSWkid(0)
Full Extent:
XMin: 1.0424927610100005E7
YMin: 3093278.679200005
XMax: 1.0629310979000002E7
YMax: 3211818.020599995
Spatial Reference: 102100
(3857)
LatestVCSWkid(0)
Pixel Size X: 13.232122808493935
Pixel Size Y: 13.565958045318153
Band Count: 4
Pixel Type: U8
RasterFunction Infos: {"rasterFunctionInfos": [{
"name": "None",
"description": "",
"help": ""
}]}
Mensuration Capabilities: Basic
Inspection Capabilities:
Has Histograms: true
Has Colormap: false
Has Multi Dimensions : false
Rendering Rule:
Min Scale: 0
Max Scale: 0
Copyright Text:
Service Data Type: esriImageServiceDataTypeGeneric
Min Values: 0, 0, 0, 0
Max Values: 255, 255, 255, 255
Mean Values: 91.9870797982208, 91.9870797982208, 91.9870797982208, 252.97524766999794
Standard Deviation Values: 81.00629991120339, 81.00629991120339, 81.00629991120339, 22.63210621535329
Object ID Field:
Fields:
None
Default Mosaic Method: Center
Allowed Mosaic Methods:
SortField:
SortValue: null
Mosaic Operator: First
Default Compression Quality: 75
Default Resampling Method: Bilinear
Max Record Count: null
Max Image Height: 4100
Max Image Width: 15000
Max Download Image Count: null
Max Mosaic Image Count: null
Allow Raster Function: true
Allow Copy: true
Allow Analysis: true
Allow Compute TiePoints: false
Supports Statistics: false
Supports Advanced Queries: false
Use StandardizedQueries: true
Raster Type Infos:
Name: Raster Dataset
Description: Supports all ArcGIS Raster Datasets
Help:
Has Raster Attribute Table: false
Edit Fields Info: null
Ownership Based AccessControl For Rasters: null
Child Resources:
Info
Histograms
Statistics
Key Properties
Legend
Raster Function Infos
Supported Operations:
Export Image
Identify
Measure
Compute Histograms
Compute Statistics Histograms
Get Samples
Compute Class Statistics
Query Boundary
Compute Pixel Location
Compute Angles
Validate
Project