View In:
ArcGIS JavaScript
ArcGIS Online Map Viewer
ArcGIS Earth
Service Description: ST_2_tif
Name: ST_2_tif
Description:
Single Fused Map Cache: false
Extent:
XMin: 7693284.176164065
YMin: 4104537.5066491812
XMax: 7694196.176164065
YMax: 4105223.5066491812
Spatial Reference: 102100
(3857)
LatestVCSWkid(0)
Initial Extent:
XMin: 7693284.176164065
YMin: 4104537.5066491812
XMax: 7694196.176164065
YMax: 4105223.5066491812
Spatial Reference: 102100
(3857)
LatestVCSWkid(0)
Full Extent:
XMin: 7693284.176164065
YMin: 4104537.5066491812
XMax: 7694196.176164065
YMax: 4105223.5066491812
Spatial Reference: 102100
(3857)
LatestVCSWkid(0)
Pixel Size X: 1.0
Pixel Size Y: 1.0
Band Count: 4
Pixel Type: U8
RasterFunction Infos: {"rasterFunctionInfos": [{
"name": "None",
"description": "",
"help": ""
}]}
Mensuration Capabilities: Basic
Inspection Capabilities:
Has Histograms: true
Has Colormap: false
Has Multi Dimensions : false
Rendering Rule:
Min Scale: 0
Max Scale: 0
Copyright Text:
Service Data Type: esriImageServiceDataTypeProcessed
Min Values: 0, 1, 0, 255
Max Values: 255, 255, 255, 255
Mean Values: 98.60204241471, 100.12006259271, 76.916024116415, 255
Standard Deviation Values: 59.176706979131, 53.479418606787, 52.515323096332, 0
Object ID Field:
Fields:
None
Default Mosaic Method: Center
Allowed Mosaic Methods:
SortField:
SortValue: null
Mosaic Operator: First
Default Compression Quality: 75
Default Resampling Method: Bilinear
Max Record Count: null
Max Image Height: 4100
Max Image Width: 15000
Max Download Image Count: null
Max Mosaic Image Count: null
Allow Raster Function: true
Allow Copy: true
Allow Analysis: true
Allow Compute TiePoints: false
Supports Statistics: false
Supports Advanced Queries: false
Use StandardizedQueries: true
Raster Type Infos:
Name: Raster Dataset
Description: Supports all ArcGIS Raster Datasets
Help:
Has Raster Attribute Table: false
Edit Fields Info: null
Ownership Based AccessControl For Rasters: null
Child Resources:
Info
Histograms
Statistics
Key Properties
Legend
Raster Function Infos
Supported Operations:
Export Image
Identify
Measure
Compute Histograms
Compute Statistics Histograms
Get Samples
Compute Class Statistics
Query Boundary
Compute Pixel Location
Compute Angles
Validate
Project