View In:
ArcGIS JavaScript
ArcGIS Online Map Viewer
ArcGIS Earth
Service Description: WP_Irrigated_Avg
Name: WP_Irrigated_Avg
Description:
Single Fused Map Cache: false
Extent:
XMin: 89.8168167886224
YMin: 25.0324909996
XMax: 92.80431678862242
YMax: 26.119990999600002
Spatial Reference: 4326
(4326)
LatestVCSWkid(0)
Initial Extent:
XMin: 89.8168167886224
YMin: 25.0324909996
XMax: 92.80431678862242
YMax: 26.119990999600002
Spatial Reference: 4326
(4326)
LatestVCSWkid(0)
Full Extent:
XMin: 89.8168167886224
YMin: 25.0324909996
XMax: 92.80431678862242
YMax: 26.119990999600002
Spatial Reference: 4326
(4326)
LatestVCSWkid(0)
Pixel Size X: 0.0025000000000000096
Pixel Size Y: 0.002500000000000005
Band Count: 1
Pixel Type: F32
RasterFunction Infos: {"rasterFunctionInfos": [{
"name": "None",
"description": "",
"help": ""
}]}
Mensuration Capabilities: Basic
Inspection Capabilities:
Has Histograms: true
Has Colormap: false
Has Multi Dimensions : false
Rendering Rule:
Min Scale: 0
Max Scale: 0
Copyright Text:
Service Data Type: esriImageServiceDataTypeGeneric
Min Values: 1.025721549987793
Max Values: 65.16493225097656
Mean Values: 4.598856394858072
Standard Deviation Values: 5.238642775871631
Object ID Field:
Fields:
None
Default Mosaic Method: Center
Allowed Mosaic Methods:
SortField:
SortValue: null
Mosaic Operator: First
Default Compression Quality: 75
Default Resampling Method: Bilinear
Max Record Count: null
Max Image Height: 4100
Max Image Width: 15000
Max Download Image Count: null
Max Mosaic Image Count: null
Allow Raster Function: true
Allow Copy: true
Allow Analysis: true
Allow Compute TiePoints: false
Supports Statistics: false
Supports Advanced Queries: false
Use StandardizedQueries: true
Raster Type Infos:
Name: Raster Dataset
Description: Supports all ArcGIS Raster Datasets
Help:
Has Raster Attribute Table: false
Edit Fields Info: null
Ownership Based AccessControl For Rasters: null
Child Resources:
Info
Histograms
Statistics
Key Properties
Legend
Raster Function Infos
Supported Operations:
Export Image
Identify
Measure
Compute Histograms
Compute Statistics Histograms
Get Samples
Compute Class Statistics
Query Boundary
Compute Pixel Location
Compute Angles
Validate
Project