View In:
ArcGIS JavaScript
ArcGIS Online Map Viewer
ArcGIS Earth
Service Description: nag_river_dem_tif
Name: nag_river_dem_tif
Description:
Single Fused Map Cache: false
Extent:
XMin: 79.0008406058914
YMin: 21.117382210259933
XMax: 79.18743864984035
YMax: 21.17282059731819
Spatial Reference: 4326
(4326)
LatestVCSWkid(0)
Initial Extent:
XMin: 79.0008406058914
YMin: 21.117382210259933
XMax: 79.18743864984035
YMax: 21.17282059731819
Spatial Reference: 4326
(4326)
LatestVCSWkid(0)
Full Extent:
XMin: 79.0008406058914
YMin: 21.117382210259933
XMax: 79.18743864984035
YMax: 21.17282059731819
Spatial Reference: 4326
(4326)
LatestVCSWkid(0)
Pixel Size X: 1.7966305021081035E-5
Pixel Size Y: 1.8087565108729595E-5
Band Count: 1
Pixel Type: F32
RasterFunction Infos: {"rasterFunctionInfos": [{
"name": "None",
"description": "",
"help": ""
}]}
Mensuration Capabilities: Basic
Inspection Capabilities:
Has Histograms: true
Has Colormap: false
Has Multi Dimensions : false
Rendering Rule:
Min Scale: 0
Max Scale: 0
Copyright Text:
Service Data Type: esriImageServiceDataTypeGeneric
Min Values: 275.47717285156
Max Values: 367.0442199707
Mean Values: 308.84082916952
Standard Deviation Values: 19.373212532441
Object ID Field:
Fields:
None
Default Mosaic Method: Center
Allowed Mosaic Methods:
SortField:
SortValue: null
Mosaic Operator: First
Default Compression Quality: 75
Default Resampling Method: Bilinear
Max Record Count: null
Max Image Height: 4100
Max Image Width: 15000
Max Download Image Count: null
Max Mosaic Image Count: null
Allow Raster Function: true
Allow Copy: true
Allow Analysis: true
Allow Compute TiePoints: false
Supports Statistics: false
Supports Advanced Queries: false
Use StandardizedQueries: true
Raster Type Infos:
Name: Raster Dataset
Description: Supports all ArcGIS Raster Datasets
Help:
Has Raster Attribute Table: false
Edit Fields Info: null
Ownership Based AccessControl For Rasters: null
Child Resources:
Info
Histograms
Statistics
Key Properties
Legend
Raster Function Infos
Supported Operations:
Export Image
Identify
Measure
Compute Histograms
Compute Statistics Histograms
Get Samples
Compute Class Statistics
Query Boundary
Compute Pixel Location
Compute Angles
Validate
Project