View In:
ArcGIS JavaScript
ArcGIS Online Map Viewer
ArcGIS Earth
Service Description: VectorField_WINDSPEED_MEA_crf
Name: VectorField_WINDSPEED_MEA_crf
Description:
Single Fused Map Cache: false
Extent:
XMin: -174859.68245000148
YMin: 3147416.38575
XMax: 194846.31754999852
YMax: 3566970.38575
Spatial Reference: 32644
(32644)
VCSWkid(5773)
LatestVCSWkid(5773)
Initial Extent:
XMin: -174859.68245000148
YMin: 3147416.38575
XMax: 194846.31754999852
YMax: 3566970.38575
Spatial Reference: 32644
(32644)
VCSWkid(5773)
LatestVCSWkid(5773)
Full Extent:
XMin: -174859.68245000148
YMin: 3147416.38575
XMax: 194846.31754999852
YMax: 3566970.38575
Spatial Reference: 32644
(32644)
VCSWkid(5773)
LatestVCSWkid(5773)
Time Info:
Start Time Field: StdTime
End Time Field: StdTime
Time Extent:
[2006/09/15 00:00:00 UTC, 2024/11/30 00:00:00 UTC]
Time Reference:
N/A
Pixel Size X: 4154.0
Pixel Size Y: 4154.0
Band Count: 2
Pixel Type: S32
RasterFunction Infos: {"rasterFunctionInfos": [{
"name": "None",
"description": "",
"help": ""
}]}
Mensuration Capabilities: Basic
Inspection Capabilities:
Has Histograms: true
Has Colormap: false
Has Multi Dimensions : true
Rendering Rule:
Min Scale: 0
Max Scale: 0
Copyright Text:
Service Data Type: esriImageServiceDataTypeVector-MagDir
Min Values: 0, 0
Max Values: 59, 360
Mean Values: 0.763524293485375, 16.029360058707567
Standard Deviation Values: 3.017738846162392, 62.5141911121216
Object ID Field:
Fields:
None
Default Mosaic Method: Center
Allowed Mosaic Methods:
SortField:
SortValue: null
Mosaic Operator: First
Default Compression Quality: 75
Default Resampling Method: Bilinear
Max Record Count: null
Max Image Height: 4100
Max Image Width: 15000
Max Download Image Count: null
Max Mosaic Image Count: null
Allow Raster Function: true
Allow Copy: true
Allow Analysis: true
Allow Compute TiePoints: false
Supports Statistics: false
Supports Advanced Queries: false
Use StandardizedQueries: true
Raster Type Infos:
Name: Raster Dataset
Description: Supports all ArcGIS Raster Datasets
Help:
Has Raster Attribute Table: false
Edit Fields Info: null
Ownership Based AccessControl For Rasters: null
Child Resources:
Info
Histograms
Statistics
Key Properties
Legend
Raster Function Infos
Multidimensional Info
Slices
Supported Operations:
Export Image
Identify
Measure
Compute Histograms
Compute Statistics Histograms
Get Samples
Compute Class Statistics
Query Boundary
Compute Pixel Location
Compute Angles
Validate
Project