View In:
ArcGIS JavaScript
ArcGIS Online Map Viewer
ArcGIS Earth
Service Description: Wind_Aggregate_crf
Name: Wind_Aggregate_crf
Description:
Single Fused Map Cache: false
Extent:
XMin: -180.0
YMin: -90.0
XMax: 179.88
YMax: 90.0
Spatial Reference: 0
(0)
LatestVCSWkid(0)
Initial Extent:
XMin: -180.0
YMin: -90.0
XMax: 179.88
YMax: 90.0
Spatial Reference: 0
(0)
LatestVCSWkid(0)
Full Extent:
XMin: -180.0
YMin: -90.0
XMax: 179.88
YMax: 90.0
Spatial Reference: 0
(0)
LatestVCSWkid(0)
Time Info:
Start Time Field: StdTime
End Time Field: StdTime
Time Extent:
[2025/04/06 00:00:00 UTC, 2025/04/16 00:00:00 UTC]
Time Reference:
N/A
Pixel Size X: 0.12
Pixel Size Y: 0.12
Band Count: 2
Pixel Type: F64
RasterFunction Infos: {"rasterFunctionInfos": [{
"name": "None",
"description": "",
"help": ""
}]}
Mensuration Capabilities: Basic
Inspection Capabilities:
Has Histograms: true
Has Colormap: false
Has Multi Dimensions : true
Rendering Rule:
Min Scale: 0
Max Scale: 0
Copyright Text:
Service Data Type: esriImageServiceDataTypeVector-UV
Min Values: -31.24195327758789, -36.29160766601562
Max Values: 53.345175170898436, 36.650225448608396
Mean Values: 5.88843784553195, 0.07990644874108332
Standard Deviation Values: 9.072138071689912, 6.775803870430503
Object ID Field:
Fields:
None
Default Mosaic Method: Center
Allowed Mosaic Methods:
SortField:
SortValue: null
Mosaic Operator: First
Default Compression Quality: 75
Default Resampling Method: Bilinear
Max Record Count: null
Max Image Height: 4100
Max Image Width: 15000
Max Download Image Count: null
Max Mosaic Image Count: null
Allow Raster Function: true
Allow Copy: true
Allow Analysis: true
Allow Compute TiePoints: false
Supports Statistics: false
Supports Advanced Queries: false
Use StandardizedQueries: true
Raster Type Infos:
Name: Raster Dataset
Description: Supports all ArcGIS Raster Datasets
Help:
Has Raster Attribute Table: false
Edit Fields Info: null
Ownership Based AccessControl For Rasters: null
Child Resources:
Info
Histograms
Statistics
Key Properties
Legend
Raster Function Infos
Multidimensional Info
Slices
Supported Operations:
Export Image
Identify
Measure
Compute Histograms
Compute Statistics Histograms
Get Samples
Compute Class Statistics
Query Boundary
Compute Pixel Location
Compute Angles
Validate
Project